Workbook
Name _Toc2806825: Disclaimer!#REF!
Name _Toc2806825: Glossary!$B$5
Name C.Qtr.Comp: [1]Chart_Data_Instances_D!$E$23
Name C.Qtr.Current: [1]Chart_Data_Instances_D!$E$21
Name C.Qtr.CurrentMonth: [1]Chart_Data_Instances_D!$H$21
Name C.Qtr.HY1: [1]Chart_Data_Instances_D!$E$19
Name C.Qtr.HY2: [1]Chart_Data_Instances_D!$E$20
Name C.Qtr.Previous: [1]Chart_Data_Instances_D!$E$22
Name ErrCk: [1]General_A!$J$191
Name jj: #REF!
Name kkk: #REF!
Name L.QuarterLabels: [1]Chart_Data_Instances_D!$E$12:$E$15
Name L_DisplayName: [1]General_A!$K$74:$K$117
Name L_GroupList: [1]General_A!$J$121:$J$140
Name L_GroupName: [1]General_A!$J$74:$J$117
Name L_QtrRange: [1]General_A!$J$35:$J$70
Name L_QuarterNames: [1]General_A!$J$25:$J$28
Name L_Quarters: [1]General_A!$J$30:$J$33
Name L_SQLItemName: [1]General_A!$L$74:$L$117
Name L_YesNo: [1]General_A!$J$22:$J$23
Name ModelName: [1]General_A!$J$11
Name PartialSwitch: [1]General_A!$J$16
Name QCht10: #REF!
Name QCht10: #REF!
Name QCht10: #REF!
Name QCht10: #REF!
Name QCht12: #REF!
Name QCht12: #REF!
Name QCht12: #REF!
Name QCht12: #REF!
Name QCht13: #REF!
Name QCht13: #REF!
Name QCht13: #REF!
Name QCht13: #REF!
Name QCht14: #REF!
Name QCht14: #REF!
Name QCht14: #REF!
Name QCht14: #REF!
Name QCht15: #REF!
Name QCht15: #REF!
Name QCht15: #REF!
Name QCht15: #REF!
Name QCht15a: #REF!
Name QCht15a: #REF!
Name QCht15a: #REF!
Name QCht15a: #REF!
Name QCht16: #REF!
Name QCht16: #REF!
Name QCht16: #REF!
Name QCht16: #REF!
Name QCht17: #REF!
Name QCht17: #REF!
Name QCht17: #REF!
Name QCht17: #REF!
Name QCht18: #REF!
Name QCht18: #REF!
Name QCht18: #REF!
Name QCht18: #REF!
Name QCht19: #REF!
Name QCht19: #REF!

Sheet Control
A2: 23 | B2: CY2023
A3: 22 | B3: CY2022
A4: 21 | B4: CY2021
A5: 20 | B5: CY2020
A6: 19 | B6: CY2019
A7: 18 | B7: CY2018
A8: 17 | B8: CY2017
A9: 16 | B9: CY2016
A10: 15 | B10: CY2015
A11: 14 | B11: CY2014
A12: 13 | B12: CY2013
A13: 12 | B13: CY2012
... A15: 10 | B15: CY2010

Sheet Disclaimer
C2: Internet Advertising Revenue Report (IARR)
C3: For the financial year and quarter ended 30 June 2026
B5: Disclaimer
B7: Scope
B8: PricewaterhouseCoopers (“PwC” or “we”) prepared this report solely for the Interactive Advertising Bureau (IAB)’s use and benefit in accordance with and for the purpose set out in the engagement letter with IAB dated 29 August 2025 (“Agreement”) and in the “Scope” section of this report. In doing so, we acted exclusively for IAB and considered no-one else’s interests.
B9: Our engagement did not constitute an audit in accordance with Australian Auditing Standards or a review in accordance with Australian Auditing Standards applicable to review engagements and accordingly no such assurance is provided in this report.
B11: Restriction on the use and distribution of our report
B12: This report is solely for the use of IAB for the purposes set out in the Agreement, and should not be relied on for any other purpose. IAB may not make copies of this report available to other persons without our prior consent or except as permitted under the Agreement.
B13: To the extent permitted by law, we accept no responsibility, duty or liability for any consequence of any use of or reliance of the report by anyone other than IAB and for any use by IAB other than for the purpose set out above.
B14: We make no representation concerning the appropriateness of this report for anyone other than IAB. If anyone other than IAB chooses to use or rely on it they do so at their own risk.
B15: We are not obliged to provide any additional information or update anything in this report, even if matters come to our attention which are inconsistent with its contents.
B16: Notwithstanding the above, IAB is permitted to disclose this report to its members provided that before receiving this report the members agree:
B17: 1. This report is strictly confidential and not to disclose this report, except where required by law;
B18: 2. The members use the report at their own risk and have no recourse to PwC in connection with it; and
... B26: Liability limited by a scheme approved under Professional Standards Legislation.

Sheet Glossary
C2: Internet Advertising Revenue Report (IARR)
C3: =Disclaimer!C3 -> For the financial year and quarter ended 30 June 2026
B5: Glossary
B7: Advertising Expenditure Types
B9: Advertising Term | C9: Description
B11: General Display | C11: Includes the use of banners, images, video or audio elements, which may be presented on websites, personal feeds and/or streaming offerings. This category is the aggregate of Video and Display categories, which are defined immediately below.
B12: Display | C12: Includes the use of banners, images or audio elements, which may be presented on websites, personal feeds and/or streaming offerings. This also includes affiliate marketing programmes, partnerships, sponsorships and emails. This category is the aggregate of Standard Display, Infeed/Native and Other categories, which are respectively defined in the section below. This category does not include Video.
B13: Video | C13: TV-like advertisements that may appear as in-page video commercials or before, during, and/or after a variety of context in a player environment including but not limited to, streaming video, animation, gaming, music video content. This definition includes broadband video commercials that appear in live, archived, and downloadable streaming content.
B14: Classifieds | C14: Expenditure on ads placed to buy or sell an item or service, or to report an item of information.
B15: Search | C15: Expenditure from online directory or search engine listings.
B17: Please note: This report does not include any e-commerce or transaction-based expenditure.
B19: Types of General Display Advertising
B21: Advertising Term | C21: Description
B23: Standard Display | C23: Static or rich media display ad units (excluding video) including splash screens and interstitials.
B24: Infeed/Native | C24: Paid branded/sponsored content, native display formats, infeed ad units.
B25: Video | C25: TV-like advertisements that may appear as in-page video commercials or before, during, and/or after a variety of context in a player environment including but not limited to, streaming video, animation, gaming, music video content. This definition includes broadband video commercials that appear in live, archived, and downloadable streaming content.
B26: Other | C26: Email, tenancies, lead generation, streaming audit ads, live reads during podcasts, dynamic ads in podcasts and other. Excludes DAB revenues.
B28: Types of General Display Advertising- buying formats
B30: Advertising Term | C30: Description
B32: Direct | C32: Inventory booked directly by an advertiser.
B33: Agency (via IO) | C33: Inventory booked by a media agency via an insertion order (IO) / non-programmatic method
B34: Programmatic (Guaranteed) | C34: Inventory purchased via a programmatic method with a fixed CPM and guaranteed inventory.
B35: Programmatic (RTB/PMP) | C35: Inventory purchased via a programmatic method with a variable CPM based on real time bidding – can be via exchange or private market place.
B38: General Display Advertising Industry Categories
B40: Term | C40: Description
B42: Alcoholic Beverages | C42: Any business that is involved with the manufacturing, distribution and sale of any liquid/beverage intended for drinking that contains an intoxicant. This includes beer, wine, spirits and pre-mixed alcoholic products.
B44: Automotive | C44: Any business involved in the manufacturing, marketing, sales and servicing of motor vehicles, which includes cars, trucks, motorbikes and motorised scooters. Includes auto-specific online sites and apps.
B45: Charities | C45: This pertains to community service and charity organisations that provide products and services for the benefit of the community. It includes organisations such as the Salvation Army, Red Nose Day etc.
B46: Education | C46: Any business, organisation or institution in either the private or the government sectors that provides education and training services. This includes any primary, secondary, tertiary educational institutions, adult education centres, colleges, TAFE institutes, correspondence schools and cultural learning centres.
B47: Entertainment & Media | C47: Any business involved with the creation and delivery of content. This includes radio, home entertainment (including television), cinema, music (live, recorded, published), publications (such as newspapers, magazines), games and gaming consoles and other entertainment services (e.g. theme parks)
B48: Finance | C48: Any business providing banking products or services for personal or business purposes. Services can include credit card services, loans and wealth management (excluding superannuation). Any business involved in the provision and management of superannuation funds, including public and private companies and industry funds.
B49: FMCG | C49: Any business involved in the production, distribution and sale of foodstuff items which can be considered supermarket goods. Any business involved in the production, distribution and sale of beverage items (excluding alcohol) which can be considered supermarket goods.
B50: Gambling | C50: Any business involved in the wagering of money including online betting and lotteries and the manufacturing of poker machines.
B51: Government | C51: Any organisation providing services for, or on behalf of, a Federal, State or Local government body, agency or department.
B52: Home Products/Services/Utilities | C52: Any business providing products, services and advice relating to home renovations, construction, fittings, furnishings, appliances or utilities.
B53: Health & Beauty | C53: Any business providing products, services and product advice relating to toiletries, cosmetics or pharmaceuticals.
... B55: Real Estate | C55: Any business providing commercial or residential property advice, information and retail services for the sale and management of real estate.
B56: Recruitment
C57: Any business involved with the process of attracting, screening and hiring personnel.
B59: Retail | C59: Any business or organisation involved in the sales of goods directly to the consumer or via a bidding process. This includes department stores, mail order businesses, street vendors and markets and auctions of real estate, motor vehicles, white goods, electrical goods, manufacturing and retail equipment, antiques, furniture and general household items.
...

Sheet Total Market by Category Rev
A1: FY
F2: Overall Market – Quarterly historical data
F4: Period | G4: Non-Video General Display | H4: Video | I4: Classifieds | J4: Search & Directories | K4: Total | L4: Total Growth | N4: Calendar Year | R4: Total Display
G5: $m | H5: $m | I5: $m | J5: $m | K5: $m | L5: Qtr / Qtr | M5: Year / Year | R5: $m
A6: 2026 | B6: =$A$1&A6 -> FY2026 | C6: H2 | D6: =$A$1&A6&C6 -> FY2026H2 | F6: Jun Qtr 26 | G6: 580.2 | H6: 1677.2 | I6: 788.6 | J6: 2335.1 | K6: =SUM(G6:J6) -> 5381.1 | L6: =(K6-K7)/K7 -> 0.10667572 | M6: =(K6-K10)/K10 -> 0.1629279 | R6: 2102.2
A7: 2026 | B7: =$A$1&A7 -> FY2026 | C7: H2 | D7: =$A$1&A7&C7 -> FY2026H2 | F7: Mar Qtr 26 | G7: 513.3 | H7: 1402.6 | I7: 786.9 | J7: 2159.6 | K7: =SUM(G7:J7) -> 4862.4 | L7: =(K7-K8)/K8 -> -0.010661675 | M7: =(K7-K11)/K11 -> 0.15265413 | R7: 2102.2
A8: 2026 | B8: =$A$1&A8 -> FY2026 | C8: H1 | D8: =$A$1&A8&C8 -> FY2026H1 | F8: Dec Qtr 25 | G8: 592.5 | H8: 1509.7 | I8: 733 | J8: 2079.6 | K8: =SUM(G8:J8) -> 4914.8 | L8: =(K8-K9)/K9 -> 0.064616051 | M8: =(K8-K12)/K12 -> 0.14430733 | R8: 2102.2
A9: 2026 | B9: =$A$1&A9 -> FY2026 | C9: H1 | D9: =$A$1&A9&C9 -> FY2026H1 | F9: Sep Qtr 25 | G9: 496.7 | H9: 1346.9 | I9: 767.7 | J9: 2005.2 | K9: =SUM(G9:J9) -> 4616.5 | L9: =(K9-K10)/K10 -> -0.0023124136 | M9: =(K9-K13)/K13 -> 0.096555819 | R9: 1843.6
A10: 2025 | B10: =$A$1&A10 -> FY2025 | C10: H2 | D10: =$A$1&A10&C10 -> FY2025H2 | F10: Jun Qtr 25 | G10: 524.3 | H10: 1368.3 | I10: 675.2 | J10: 2059.4 | K10: =SUM(G10:J10) -> 4627.2 | L10: =(K10-K11)/K11 -> 0.0968989 | M10: =(K10-K14)/K14 -> 0.10223916 | R10: 1892.7
A11: 2025 | B11: =$A$1&A11 -> FY2025 | C11: H2 | D11: =$A$1&A11&C11 -> FY2025H2 | F11: Mar Qtr 25 | G11: 466.4 | H11: 1165.1 | I11: 690.8 | J11: 1896.138 | K11: =SUM(G11:J11) -> 4218.438 | L11: =(K11-K12)/K12 -> -0.017825844 | M11: =(K11-K15)/K15 -> 0.11720067 | R11: 1631.5
A12: 2025 | B12: =$A$1&A12 -> FY2025 | C12: H1 | D12: =$A$1&A12&C12 -> FY2025H1 | F12: Dec Qtr 24 | G12: 547.1 | H12: 1308.7 | I12: 604.8 | J12: 1834.4 | K12: =SUM(G12:J12) -> 4295 | L12: =(K12-K13)/K13 -> 0.020190024 | M12: =(K12-K16)/K16 -> 0.097875821 | R12: 1848.4
A13: 2025 | B13: =$A$1&A13 -> FY2025 | C13: H1 | D13: =$A$1&A13&C13 -> FY2025H1 | F13: Sept Qtr 24 | G13: 504.2 | H13: 1154 | I13: 760.8 | J13: 1791 | K13: =SUM(G13:J13) -> 4210 | L13: =(K13-K14)/K14 -> 0.002858504 | M13: =(K13-K17)/K17 -> 0.12790012 | R13: 1658.2
A14: 2024 | B14: =$A$1&A14 -> FY2024 | C14: H2 | D14: =$A$1&A14&C14 -> FY2024H2 | F14: Jun Qtr 24 | G14: 518.7 | H14: =Video!E16 -> 1091.6 | I14: 728.2 | J14: 1859.5 | K14: =SUM(G14:J14) -> 4198 | L14: =(K14-K15)/K15 -> 0.11178792 | M14: =(K14-K18)/K18 -> 0.14887794 | R14: 1610.3
A15: 2024 | B15: =$A$1&A15 -> FY2024 | C15: H2 | D15: =$A$1&A15&C15 -> FY2024H2 | F15: Mar Qtr 24 | G15: 470.8 | H15: =Video!E17 -> 944.9 | I15: 635.9 | J15: 1724.3 | K15: =SUM(G15:J15) -> 3775.9 | L15: =(K15-K16)/K16 -> -0.034815061 | M15: =(K15-K19)/K19 -> 0.10177701 | R15: 1415.7
A16: 2024 | B16: =$A$1&A16 -> FY2024 | C16: H1 | D16: =$A$1&A16&C16 -> FY2024H1 | F16: Dec Qtr 23 | G16: =R16-H16 -> 553.1 | H16: =Video!E18 -> 1098 | I16: 574.6 | J16: 1686.4 | K16: =SUM(G16:J16) -> 3912.1 | L16: =(K16-K17)/K17 -> 0.048089803 | M16: =(K16-K20)/K20 -> 0.07504809 | O16: A trend break has been included to reflect that a contributor has amended previously reported classifieds from March 2024 onwards | R16: 1651.1
A17: 2024 | B17: =$A$1&A17 -> FY2024 | C17: H1 | D17: =$A$1&A17&C17 -> FY2024H1 | F17: Sept Qtr 23 | G17: =R17-H17 -> 487.4 | H17: =Video!E19 -> 965.5 | I17: 649.2 | J17: 1630.5 | K17: =SUM(G17:J17) -> 3732.6 | L17: =(K17-K18)/K18 -> 0.021510673 | M17: =(K17-K21)/K21 -> 0.077851574 | R17: 1452.9
A18: 2023 | B18: =$A$1&A18 -> FY2023 | C18: H2 | D18: =$A$1&A18&C18 -> FY2023H2 | F18: Jun Qtr 23 | G18: =R18-H18 -> 495.2 | H18: =Video!E20 -> 918.8 | I18: 582.9 | J18: 1657.1 | K18: =SUM(G18:J18) -> 3654 | L18: =(K18-K19)/K19 -> 0.066207581 | M18: =(K18-K22)/K22 -> 0.0038185764 | N18: =TRIM(_xlfn.TEXTAFTER(F18," ",2)) -> 23 | R18: 1414
A19: 2023 | B19: =$A$1&A19 -> FY2023 | C19: H2 | D19: =$A$1&A19&C19 -> FY2023H2 | F19: Mar Qtr 23 | G19: =R19-H19 -> 447.7 | H19: =Video!E21 -> 780.7 | I19: 622.7 | J19: 1576 | K19: =SUM(G19:J19) -> 3427.1 | L19: =(K19-K20)/K20 -> -0.058230283 | M19: =(K19-K23)/K23 -> -0.0081039623 | N19: =TRIM(_xlfn.TEXTAFTER(F19," ",2)) -> 23 | R19: 1228.4
A20: 2023 | B20: =$A$1&A20 -> FY2023 | C20: H1 | D20: =$A$1&A20&C20 -> FY2023H1 | F20: Dec Qtr 22 | G20: =R20-H20 -> 593.8 | H20: =Video!E22 -> 917.9 | I20: 586.4 | J20: 1540.9 | K20: =SUM(G20:J20) -> 3639 | L20: =(K20-K21)/K21 -> 0.050822986 | M20: =(K20-K24)/K24 -> 0.013310314 | N20: =TRIM(_xlfn.TEXTAFTER(F20," ",2)) -> 22 | R20: 1511.7
A21: 2023 | B21: =$A$1&A21 -> FY2023 | C21: H1 | D21: =$A$1&A21&C21 -> FY2023H1 | F21: Sept Qtr 22 | G21: =R21-H21 -> 503.3 | H21: =Video!E23 -> 840.6 | I21: 643.9 | J21: 1475.2 | K21: =SUM(G21:J21) -> 3463 | L21: =(K21-K22)/K22 -> -0.04865251 | M21: =(K21-K25)/K25 -> 0.067838421 | N21: =TRIM(_xlfn.TEXTAFTER(F21," ",2)) -> 22 | R21: 1343.9
A22: =A18-1 -> 2022 | B22: =$A$1&A22 -> FY2022 | C22: H2 | D22: =$A$1&A22&C22 -> FY2022H2 | F22: Jun Qtr 22 | G22: =R22-H22 -> 592.7 | H22: =Video!E24 -> 821.5 | I22: 615.2 | J22: 1610.7 | K22: =SUM(G22:J22) -> 3640.1 | L22: =(K22-K23)/K23 -> 0.053544036 | M22: =(K22-K26)/K26 -> 0.10833359 | N22: =TRIM(_xlfn.TEXTAFTER(F22," ",2)) -> 22 | R22: 1414.2
A23: =A19-1 -> 2022 | B23: =$A$1&A23 -> FY2022 | C23: H2 | D23: =$A$1&A23&C23 -> FY2022H2 | F23: Mar Qtr 22 | G23: =R23-H23 -> 534.9 | H23: =Video!E25 -> 725.7 | I23: 647.9 | J23: 1546.6 | K23: =SUM(G23:J23) -> 3455.1 | L23: -0.04 | M23: 0.192 | N23: =TRIM(_xlfn.TEXTAFTER(F23," ",2)) -> 22 | R23: 1260.6
A24: =A20-1 -> 2022 | B24: =$A$1&A24 -> FY2022 | C24: H1 | D24: =$A$1&A24&C24 -> FY2022H1 | F24: Dec Qtr 21 | G24: =R24-H24 -> 647.8 | H24: =Video!E26 -> 829.2 | I24: 620.9 | J24: 1493.3 | K24: =SUM(G24:J24) -> 3591.2 | L24: =(K24-K25)/K25 -> 0.10736972 | M24: =(K24-K28)/K28 -> 0.21496718 | N24: =TRIM(_xlfn.TEXTAFTER(F24," ",2)) -> 21 | R24: 1477
A25: =A21-1 -> 2022 | B25: =$A$1&A25 -> FY2022 | C25: H1 | D25: =$A$1&A25&C25 -> FY2022H1 | F25: Sept Qtr 21 | G25: =R25-H25 -> 490.7 | H25: =Video!E27 -> 804.8 | I25: 529.8 | J25: 1417.7 | K25: =SUM(G25:J25) -> 3243 | L25: =(K25-K26)/K26 -> -0.012574978 | M25: =(K25-K29)/K29 -> 0.4244301 | N25: =TRIM(_xlfn.TEXTAFTER(F25," ",2)) -> 21 | R25: 1295.5
A26: =A22-1 -> 2021 | B26: =$A$1&A26 -> FY2021 | C26: H2 | D26: =$A$1&A26&C26 -> FY2021H2 | F26: Jun Qtr 21 | G26: =R26-H26 -> 563.3 | H26: =Video!E28 -> 725.2 | I26: 530.4 | J26: 1465.4 | K26: =SUM(G26:J26) -> 3284.3 | L26: =(K26-K27)/K27 -> 0.13546966 | M26: =(K26-K30)/K30 -> 0.61010883 | N26: =TRIM(_xlfn.TEXTAFTER(F26," ",2)) -> 21 | R26: 1288.5
A27: =A23-1 -> 2021 | B27: =$A$1&A27 -> FY2021 | C27: H2 | D27: =$A$1&A27&C27 -> FY2021H2 | F27: Mar Qtr 21 | G27: =R27-H27 -> 488.2 | H27: =Video!E29 -> 586.6 | I27: 505.65949 | J27: 1312 | K27: =SUM(G27:J27) -> 2892.4595 | L27: =(K27-K28)/K28 -> -0.021429229 | M27: =(K27-K31)/K31 -> 0.26143022 | N27: =TRIM(_xlfn.TEXTAFTER(F27," ",2)) -> 21 | R27: 1074.8
A28: =A24-1 -> 2021 | B28: =$A$1&A28 -> FY2021 | C28: H1 | D28: =$A$1&A28&C28 -> FY2021H1 | F28: Dec Qtr 20 | G28: =R28-H28 -> 561.9 | H28: =Video!E30 -> 651.4 | I28: 433.1 | J28: 1309.4 | K28: =SUM(G28:J28) -> 2955.8 | L28: =(K28-K29)/K29 -> 0.2982826 | M28: =(K28-K32)/K32 -> 0.21159206 | N28: =TRIM(_xlfn.TEXTAFTER(F28," ",2)) -> 20 | R28: 1213.3
A29: =A25-1 -> 2021 | B29: =$A$1&A29 -> FY2021 | C29: H1 | D29: =$A$1&A29&C29 -> FY2021H1 | F29: Sept Qtr 20 | G29: =R29-H29 -> 427.8 | H29: =Video!E31 -> 456.4 | I29: 386.1 | J29: 1006.4 | K29: =SUM(G29:J29) -> 2276.7 | L29: =(K29-K30)/K30 -> 0.11613884 | M29: =(K29-K33)/K33 -> -0.043724798 | N29: =TRIM(_xlfn.TEXTAFTER(F29," ",2)) -> 20 | R29: 884.2
A30: =A26-1 -> 2020 | B30: =$A$1&A30 -> FY2020 | C30: H2 | D30: =$A$1&A30&C30 -> FY2020H2 | F30: Jun Qtr 20 | G30: =R30-H30 -> 367.7 | H30: =Video!E32 -> 407.5 | I30: 299.2 | J30: 965.4 | K30: =SUM(G30:J30) -> 2039.8 | L30: =(K30-K31)/K31 -> -0.11042303 | M30: =(K30-K34)/K34 -> -0.11712258 | N30: =TRIM(_xlfn.TEXTAFTER(F30," ",2)) -> 20 | R30: 775.2
A31: =A27-1 -> 2020 | B31: =$A$1&A31 -> FY2020 | C31: H2 | D31: =$A$1&A31&C31 -> FY2020H2 | F31: Mar Qtr 20 | G31: =R31-H31 -> 393.6 | H31: =Video!E33 -> 434.8 | I31: 427.1 | J31: 1037.5 | K31: =SUM(G31:J31) -> 2293 | L31: =(K31-K32)/K32 -> -0.060091818 | M31: =(K31-K35)/K35 -> 0.040947885 | N31: =TRIM(_xlfn.TEXTAFTER(F31," ",2)) -> 20 | R31: 828.4
A32: =A28-1 -> 2020 | B32: =$A$1&A32 -> FY2020 | C32: H1 | D32: =$A$1&A32&C32 -> FY2020H1 | F32: Dec Qtr 19 | G32: =R32-H32 -> 483.4 | H32: =Video!E34 -> 457.2 | I32: 417.8 | J32: 1081.2 | K32: =SUM(G32:J32) -> 2439.6 | L32: 0.025 | M32: =(K32-K36)/K36 -> 0.060188605 | N32: =TRIM(_xlfn.TEXTAFTER(F32," ",2)) -> 19 | R32: 940.6
A33: =A29-1 -> 2020 | B33: =$A$1&A33 -> FY2020 | C33: H1 | D33: =$A$1&A33&C33 -> FY2020H1 | F33: Sept Qtr 19 | G33: =R33-H33 -> 450 | H33: =Video!E35 -> 413.4 | I33: 436.3 | J33: 1081.1 | K33: =SUM(G33:J33) -> 2380.8 | L33: 0.030470914 | M33: 0.065 | N33: =TRIM(_xlfn.TEXTAFTER(F33," ",2)) -> 19 | R33: 863.4
A34: =A30-1 -> 2019 | B34: =$A$1&A34 -> FY2019 | C34: H2 | D34: =$A$1&A34&C34 -> FY2019H2 | F34: Jun Qtr 19 | G34: =R34-H34 -> 454.1 | H34: =Video!E36 -> 409.5 | I34: 386.9 | J34: 1059.9 | K34: =SUM(G34:J34) -> 2310.4 | L34: 0.049 | M34: 0.05 | N34: =TRIM(_xlfn.TEXTAFTER(F34," ",2)) -> 19 | R34: 863.6
A35: =A31-1 -> 2019 | B35: =$A$1&A35 -> FY2019 | C35: H2 | D35: =$A$1&A35&C35 -> FY2019H2 | F35: Mar Qtr 19 | G35: =R35-H35 -> 430.7 | H35: =Video!E37 -> 368.3 | I35: 426.2 | J35: 977.6 | K35: =SUM(G35:J35) -> 2202.8 | L35: -0.043 | M35: 0.049 | N35: =TRIM(_xlfn.TEXTAFTER(F35," ",2)) -> 19 | R35: 799
A36: =A32-1 -> 2019 | B36: =$A$1&A36 -> FY2019 | C36: H1 | D36: =$A$1&A36&C36 -> FY2019H1 | F36: Dec Qtr 18 | G36: =R36-H36 -> 506.5 | H36: =Video!E38 -> 375.3 | I36: 401.8 | J36: 1017.5 | K36: =SUM(G36:J36) -> 2301.1 | L36: 0.029 | M36: 0.057 | N36: =TRIM(_xlfn.TEXTAFTER(F36," ",2)) -> 18 | R36: 881.8
A37: =A33-1 -> 2019 | B37: =$A$1&A37 -> FY2019 | C37: H1 | D37: =$A$1&A37&C37 -> FY2019H1 | F37: Sept Qtr 18 | G37: =R37-H37 -> 494.4 | H37: =Video!E39 -> 328.4 | I37: 429.7 | J37: 983.2 | K37: =SUM(G37:J37) -> 2235.7 | L37: 0.016 | M37: 0.132 | N37: =TRIM(_xlfn.TEXTAFTER(F37," ",2)) -> 18 | R37: 822.8
A38: =A34-1 -> 2018 | B38: =$A$1&A38 -> FY2018 | C38: H2 | D38: =$A$1&A38&C38 -> FY2018H2 | F38: Jun Qtr 18 | G38: =R38-H38 -> 476.7 | H38: =Video!E40 -> 351 | I38: 411.2 | J38: 960.9 | K38: =SUM(G38:J38) -> 2199.8 | L38: 0.047 | M38: 0.152 | N38: =TRIM(_xlfn.TEXTAFTER(F38," ",2)) -> 18 | R38: 827.7
A39: =A35-1 -> 2018 | B39: =$A$1&A39 -> FY2018 | C39: H2 | D39: =$A$1&A39&C39 -> FY2018H2 | F39: Mar Qtr 18 | G39: =R39-H39 -> 447.15567 | H39: =Video!E41 -> 320 | I39: 397.33309 | J39: 936.61274 | K39: =SUM(G39:J39) -> 2101.1015 | L39: -0.035 | M39: =(K39-K43)/K43 -> 0.13211999 | N39: =TRIM(_xlfn.TEXTAFTER(F39," ",2)) -> 18 | R39: 767.15567
A40: =A36-1 -> 2018 | B40: =$A$1&A40 -> FY2018 | C40: H1 | D40: =$A$1&A40&C40 -> FY2018H1 | F40: Dec Qtr 17 | G40: =R40-H40 -> 499.2 | H40: =Video!E42 -> 344.2 | I40: 379.2 | J40: 953.5 | K40: =SUM(G40:J40) -> 2176.1 | L40: 0.102 | M40: 0.105 | N40: =TRIM(_xlfn.TEXTAFTER(F40," ",2)) -> 17 | R40: 843.4
A41: =A37-1 -> 2018 | B41: =$A$1&A41 -> FY2018 | C41: H1 | D41: =$A$1&A41&C41 -> FY2018H1 | F41: Sept Qtr 17 | G41: =R41-H41 -> 418 | H41: =Video!E43 -> 278.5 | I41: 390.2 | J41: 888.6 | K41: =SUM(G41:J41) -> 1975.3 | L41: 0.034 | M41: 0.049 | N41: =TRIM(_xlfn.TEXTAFTER(F41," ",2)) -> 17 | R41: 696.5
...

Sheet Total Market By Category Share
B2: Overall Market Share – Quarterly historical data
B4: Period | C4: Non-Video General Display | D4: Video | E4: Classifieds | F4: Search & Directories | G4: Calendar Year
C5: % | D5: % | E5: % | F5: %
B6: Jun Qtr 26 | C6: ='Total Market by Category Rev'!G6/'Total Market by Category Rev'!$K6 -> 0.10782182 | D6: ='Total Market by Category Rev'!H6/'Total Market by Category Rev'!$K6 -> 0.31168348 | E6: ='Total Market by Category Rev'!I6/'Total Market by Category Rev'!$K6 -> 0.14654996 | F6: ='Total Market by Category Rev'!J6/'Total Market by Category Rev'!$K6 -> 0.43394473
B7: Mar Qtr 26 | C7: ='Total Market by Category Rev'!G7/'Total Market by Category Rev'!$K7 -> 0.10556515 | D7: ='Total Market by Category Rev'!H7/'Total Market by Category Rev'!$K7 -> 0.28845837 | E7: ='Total Market by Category Rev'!I7/'Total Market by Category Rev'!$K7 -> 0.16183366 | F7: ='Total Market by Category Rev'!J7/'Total Market by Category Rev'!$K7 -> 0.44414281
B8: Dec Qtr 25 | C8: ='Total Market by Category Rev'!G8/'Total Market by Category Rev'!$K8 -> 0.12055424 | D8: ='Total Market by Category Rev'!H8/'Total Market by Category Rev'!$K8 -> 0.30717425 | E8: ='Total Market by Category Rev'!I8/'Total Market by Category Rev'!$K8 -> 0.14914137 | F8: ='Total Market by Category Rev'!J8/'Total Market by Category Rev'!$K8 -> 0.42313014
B9: Sep Qtr 25 | C9: ='Total Market by Category Rev'!G9/'Total Market by Category Rev'!$K9 -> 0.10759233 | D9: ='Total Market by Category Rev'!H9/'Total Market by Category Rev'!$K9 -> 0.29175783 | E9: ='Total Market by Category Rev'!I9/'Total Market by Category Rev'!$K9 -> 0.16629481 | F9: ='Total Market by Category Rev'!J9/'Total Market by Category Rev'!$K9 -> 0.43435503
B10: Jun Qtr 25 | C10: ='Total Market by Category Rev'!G10/'Total Market by Category Rev'!$K10 -> 0.11330826 | D10: ='Total Market by Category Rev'!H10/'Total Market by Category Rev'!$K10 -> 0.29570799 | E10: ='Total Market by Category Rev'!I10/'Total Market by Category Rev'!$K10 -> 0.14591978 | F10: ='Total Market by Category Rev'!J10/'Total Market by Category Rev'!$K10 -> 0.44506397
B11: Mar Qtr 25 | C11: ='Total Market by Category Rev'!G11/'Total Market by Category Rev'!$K11 -> 0.11056225 | D11: ='Total Market by Category Rev'!H11/'Total Market by Category Rev'!$K11 -> 0.27619228 | E11: ='Total Market by Category Rev'!I11/'Total Market by Category Rev'!$K11 -> 0.1637573 | F11: ='Total Market by Category Rev'!J11/'Total Market by Category Rev'!$K11 -> 0.44948818
B12: Dec Qtr 24 | C12: ='Total Market by Category Rev'!G12/'Total Market by Category Rev'!$K12 -> 0.12738068 | D12: ='Total Market by Category Rev'!H12/'Total Market by Category Rev'!$K12 -> 0.30470314 | E12: ='Total Market by Category Rev'!I12/'Total Market by Category Rev'!$K12 -> 0.1408149 | F12: ='Total Market by Category Rev'!J12/'Total Market by Category Rev'!$K12 -> 0.42710128
B13: Sept Qtr 24 | C13: ='Total Market by Category Rev'!G13/'Total Market by Category Rev'!$K13 -> 0.11976247 | D13: ='Total Market by Category Rev'!H13/'Total Market by Category Rev'!$K13 -> 0.27410926 | E13: ='Total Market by Category Rev'!I13/'Total Market by Category Rev'!$K13 -> 0.18071259 | F13: ='Total Market by Category Rev'!J13/'Total Market by Category Rev'!$K13 -> 0.42541568
B14: Jun Qtr 24 | C14: ='Total Market by Category Rev'!G14/'Total Market by Category Rev'!$K14 -> 0.12355884 | D14: ='Total Market by Category Rev'!H14/'Total Market by Category Rev'!$K14 -> 0.26002859 | E14: ='Total Market by Category Rev'!I14/'Total Market by Category Rev'!$K14 -> 0.17346355 | F14: ='Total Market by Category Rev'!J14/'Total Market by Category Rev'!$K14 -> 0.44294902
B15: Mar Qtr 24 | C15: ='Total Market by Category Rev'!G15/'Total Market by Category Rev'!$K15 -> 0.12468551 | D15: ='Total Market by Category Rev'!H15/'Total Market by Category Rev'!$K15 -> 0.25024497 | E15: ='Total Market by Category Rev'!I15/'Total Market by Category Rev'!$K15 -> 0.16841018 | F15: ='Total Market by Category Rev'!J15/'Total Market by Category Rev'!$K15 -> 0.45665934
B16: Dec Qtr 23 | C16: ='Total Market by Category Rev'!G16/'Total Market by Category Rev'!K16 -> 0.14138187 | D16: ='Total Market by Category Rev'!H16/'Total Market by Category Rev'!K16 -> 0.28066767 | E16: ='Total Market by Category Rev'!I16/'Total Market by Category Rev'!K16 -> 0.14687764 | F16: ='Total Market by Category Rev'!J16/'Total Market by Category Rev'!K16 -> 0.43107283 | G16: =TRIM(_xlfn.TEXTAFTER(B16," ",2)) -> 23 | H16: A trend break has been included to reflect that a contributor has amended previously reported classifieds from March 2024 onwards
B17: Sept Qtr 23 | C17: ='Total Market by Category Rev'!G17/'Total Market by Category Rev'!K17 -> 0.13057922 | D17: ='Total Market by Category Rev'!H17/'Total Market by Category Rev'!K17 -> 0.25866688 | E17: ='Total Market by Category Rev'!I17/'Total Market by Category Rev'!K17 -> 0.17392702 | F17: ='Total Market by Category Rev'!J17/'Total Market by Category Rev'!K17 -> 0.43682688 | G17: =TRIM(_xlfn.TEXTAFTER(B17," ",2)) -> 23
B18: Jun Qtr 23 | C18: ='Total Market by Category Rev'!G18/'Total Market by Category Rev'!K18 -> 0.13552271 | D18: ='Total Market by Category Rev'!H18/'Total Market by Category Rev'!K18 -> 0.25145047 | E18: ='Total Market by Category Rev'!I18/'Total Market by Category Rev'!K18 -> 0.15952381 | F18: ='Total Market by Category Rev'!J18/'Total Market by Category Rev'!K18 -> 0.45350301 | G18: =TRIM(_xlfn.TEXTAFTER(B18," ",2)) -> 23
B19: Mar Qtr 23 | C19: ='Total Market by Category Rev'!G19/'Total Market by Category Rev'!K19 -> 0.13063523 | D19: ='Total Market by Category Rev'!H19/'Total Market by Category Rev'!K19 -> 0.22780193 | E19: ='Total Market by Category Rev'!I19/'Total Market by Category Rev'!K19 -> 0.18169881 | F19: ='Total Market by Category Rev'!J19/'Total Market by Category Rev'!K19 -> 0.45986402 | G19: =TRIM(_xlfn.TEXTAFTER(B19," ",2)) -> 23
B20: Dec Qtr 22 | C20: ='Total Market by Category Rev'!G20/'Total Market by Category Rev'!K20 -> 0.1631767 | D20: ='Total Market by Category Rev'!H20/'Total Market by Category Rev'!K20 -> 0.25223963 | E20: ='Total Market by Category Rev'!I20/'Total Market by Category Rev'!K20 -> 0.16114317 | F20: ='Total Market by Category Rev'!J20/'Total Market by Category Rev'!K20 -> 0.42344051 | G20: =TRIM(_xlfn.TEXTAFTER(B20," ",2)) -> 22
B21: Sept Qtr 22 | C21: ='Total Market by Category Rev'!G21/'Total Market by Category Rev'!K21 -> 0.14533641 | D21: ='Total Market by Category Rev'!H21/'Total Market by Category Rev'!K21 -> 0.24273751 | E21: ='Total Market by Category Rev'!I21/'Total Market by Category Rev'!K21 -> 0.18593705 | F21: ='Total Market by Category Rev'!J21/'Total Market by Category Rev'!K21 -> 0.42598903 | G21: =TRIM(_xlfn.TEXTAFTER(B21," ",2)) -> 22
B22: Jun Qtr 22 | C22: ='Total Market by Category Rev'!G22/'Total Market by Category Rev'!K22 -> 0.1628252 | D22: ='Total Market by Category Rev'!H22/'Total Market by Category Rev'!K22 -> 0.22568061 | E22: ='Total Market by Category Rev'!I22/'Total Market by Category Rev'!K22 -> 0.16900635 | F22: ='Total Market by Category Rev'!J22/'Total Market by Category Rev'!K22 -> 0.44248784 | G22: =TRIM(_xlfn.TEXTAFTER(B22," ",2)) -> 22
B23: Mar Qtr 22 | C23: ='Total Market by Category Rev'!G23/'Total Market by Category Rev'!K23 -> 0.15481462 | D23: ='Total Market by Category Rev'!H23/'Total Market by Category Rev'!K23 -> 0.21003734 | E23: ='Total Market by Category Rev'!I23/'Total Market by Category Rev'!K23 -> 0.1875199 | F23: ='Total Market by Category Rev'!J23/'Total Market by Category Rev'!K23 -> 0.44762814 | G23: =TRIM(_xlfn.TEXTAFTER(B23," ",2)) -> 22
B24: Dec Qtr 21 | C24: ='Total Market by Category Rev'!G24/'Total Market by Category Rev'!K24 -> 0.18038539 | D24: ='Total Market by Category Rev'!H24/'Total Market by Category Rev'!K24 -> 0.23089775 | E24: ='Total Market by Category Rev'!I24/'Total Market by Category Rev'!K24 -> 0.17289485 | F24: ='Total Market by Category Rev'!J24/'Total Market by Category Rev'!K24 -> 0.41582201 | G24: =TRIM(_xlfn.TEXTAFTER(B24," ",2)) -> 21
B25: Sept Qtr 21 | C25: ='Total Market by Category Rev'!G25/'Total Market by Category Rev'!K25 -> 0.15131051 | D25: ='Total Market by Category Rev'!H25/'Total Market by Category Rev'!K25 -> 0.24816528 | E25: ='Total Market by Category Rev'!I25/'Total Market by Category Rev'!K25 -> 0.16336725 | F25: ='Total Market by Category Rev'!J25/'Total Market by Category Rev'!K25 -> 0.43715695 | G25: =TRIM(_xlfn.TEXTAFTER(B25," ",2)) -> 21
B26: Jun Qtr 21 | C26: ='Total Market by Category Rev'!G26/'Total Market by Category Rev'!K26 -> 0.17151296 | D26: ='Total Market by Category Rev'!H26/'Total Market by Category Rev'!K26 -> 0.22080809 | E26: ='Total Market by Category Rev'!I26/'Total Market by Category Rev'!$K26 -> 0.1614956 | F26: ='Total Market by Category Rev'!J26/'Total Market by Category Rev'!$K26 -> 0.44618336 | G26: =TRIM(_xlfn.TEXTAFTER(B26," ",2)) -> 21
B27: Mar Qtr 21 | C27: ='Total Market by Category Rev'!G27/'Total Market by Category Rev'!K27 -> 0.1687837 | D27: ='Total Market by Category Rev'!H27/'Total Market by Category Rev'!K27 -> 0.20280319 | E27: ='Total Market by Category Rev'!I27/'Total Market by Category Rev'!$K$27 -> 0.1748199 | F27: ='Total Market by Category Rev'!J27/'Total Market by Category Rev'!$K27 -> 0.45359322 | G27: =TRIM(_xlfn.TEXTAFTER(B27," ",2)) -> 21
B28: Dec Qtr 20 | C28: ='Total Market by Category Rev'!G28/'Total Market by Category Rev'!K28 -> 0.19010082 | D28: ='Total Market by Category Rev'!H28/'Total Market by Category Rev'!K28 -> 0.22038027 | E28: ='Total Market by Category Rev'!I28/'Total Market by Category Rev'!$K$28 -> 0.14652548 | F28: ='Total Market by Category Rev'!J28/'Total Market by Category Rev'!$K28 -> 0.44299344 | G28: =TRIM(_xlfn.TEXTAFTER(B28," ",2)) -> 20
B29: Sept Qtr 20 | C29: ='Total Market by Category Rev'!G29/'Total Market by Category Rev'!K29 -> 0.18790354 | D29: ='Total Market by Category Rev'!H29/'Total Market by Category Rev'!K29 -> 0.20046559 | E29: ='Total Market by Category Rev'!I29/'Total Market by Category Rev'!K29 -> 0.16958756 | F29: ='Total Market by Category Rev'!J29/'Total Market by Category Rev'!K29 -> 0.44204331 | G29: =TRIM(_xlfn.TEXTAFTER(B29," ",2)) -> 20
B30: Jun Qtr 20 | C30: ='Total Market by Category Rev'!G30/'Total Market by Category Rev'!K30 -> 0.18026277 | D30: ='Total Market by Category Rev'!H30/'Total Market by Category Rev'!K30 -> 0.19977449 | E30: ='Total Market by Category Rev'!I30/'Total Market by Category Rev'!K30 -> 0.14668105 | F30: ='Total Market by Category Rev'!J30/'Total Market by Category Rev'!K30 -> 0.47328169 | G30: =TRIM(_xlfn.TEXTAFTER(B30," ",2)) -> 20
B31: Mar Qtr 20 | C31: ='Total Market by Category Rev'!G31/'Total Market by Category Rev'!K31 -> 0.17165286 | D31: ='Total Market by Category Rev'!H31/'Total Market by Category Rev'!K31 -> 0.18962058 | E31: ='Total Market by Category Rev'!I31/'Total Market by Category Rev'!K31 -> 0.18626254 | F31: ='Total Market by Category Rev'!J31/'Total Market by Category Rev'!K31 -> 0.45246402 | G31: =TRIM(_xlfn.TEXTAFTER(B31," ",2)) -> 20
B32: Dec Qtr 19 | C32: ='Total Market by Category Rev'!G32/'Total Market by Category Rev'!K32 -> 0.19814724 | D32: ='Total Market by Category Rev'!H32/'Total Market by Category Rev'!K32 -> 0.18740777 | E32: ='Total Market by Category Rev'!I32/'Total Market by Category Rev'!K32 -> 0.17125758 | F32: ='Total Market by Category Rev'!J32/'Total Market by Category Rev'!K32 -> 0.44318741 | G32: =TRIM(_xlfn.TEXTAFTER(B32," ",2)) -> 19
B33: Sept Qtr 19 | C33: ='Total Market by Category Rev'!G33/'Total Market by Category Rev'!K33 -> 0.1890121 | D33: ='Total Market by Category Rev'!H33/'Total Market by Category Rev'!K33 -> 0.17363911 | E33: 0.18325773 | F33: 0.45409106 | G33: =TRIM(_xlfn.TEXTAFTER(B33," ",2)) -> 19
B34: Jun Qtr 19 | C34: ='Total Market by Category Rev'!G34/'Total Market by Category Rev'!K34 -> 0.19654605 | D34: ='Total Market by Category Rev'!H34/'Total Market by Category Rev'!K34 -> 0.17724204 | E34: ='Total Market by Category Rev'!I34/'Total Market by Category Rev'!K34 -> 0.16746018 | F34: ='Total Market by Category Rev'!J34/'Total Market by Category Rev'!K34 -> 0.45875173 | G34: =TRIM(_xlfn.TEXTAFTER(B34," ",2)) -> 19
B35: Mar Qtr 19 | C35: ='Total Market by Category Rev'!G35/'Total Market by Category Rev'!K35 -> 0.19552388 | D35: ='Total Market by Category Rev'!H35/'Total Market by Category Rev'!K35 -> 0.1671963 | E35: 0.19348102 | F35: 0.4437988 | G35: =TRIM(_xlfn.TEXTAFTER(B35," ",2)) -> 19
B36: Dec Qtr 18 | C36: ='Total Market by Category Rev'!G36/'Total Market by Category Rev'!K36 -> 0.22011212 | D36: ='Total Market by Category Rev'!H36/'Total Market by Category Rev'!K36 -> 0.16309591 | E36: ='Total Market by Category Rev'!I36/'Total Market by Category Rev'!K36 -> 0.17461214 | F36: ='Total Market by Category Rev'!J36/'Total Market by Category Rev'!K36 -> 0.44217983 | G36: =TRIM(_xlfn.TEXTAFTER(B36," ",2)) -> 18
B37: Sept Qtr 18 | C37: ='Total Market by Category Rev'!G37/'Total Market by Category Rev'!K37 -> 0.22113879 | D37: ='Total Market by Category Rev'!H37/'Total Market by Category Rev'!K37 -> 0.14688912 | E37: ='Total Market by Category Rev'!I37/'Total Market by Category Rev'!K37 -> 0.19219931 | F37: ='Total Market by Category Rev'!J37/'Total Market by Category Rev'!K37 -> 0.43977278 | G37: =TRIM(_xlfn.TEXTAFTER(B37," ",2)) -> 18
B38: Jun Qtr 18 | C38: ='Total Market by Category Rev'!G38/'Total Market by Category Rev'!K38 -> 0.21670152 | D38: ='Total Market by Category Rev'!H38/'Total Market by Category Rev'!K38 -> 0.15955996 | E38: ='Total Market by Category Rev'!I38/'Total Market by Category Rev'!K38 -> 0.18692608 | F38: ='Total Market by Category Rev'!J38/'Total Market by Category Rev'!K38 -> 0.43681244 | G38: =TRIM(_xlfn.TEXTAFTER(B38," ",2)) -> 18
B39: Mar Qtr 18 | C39: ='Total Market by Category Rev'!G39/'Total Market by Category Rev'!K39 -> 0.21281964 | D39: ='Total Market by Category Rev'!H39/'Total Market by Category Rev'!K39 -> 0.15230107 | E39: ='Total Market by Category Rev'!I39/'Total Market by Category Rev'!K39 -> 0.18910704 | F39: ='Total Market by Category Rev'!J39/'Total Market by Category Rev'!K39 -> 0.44577225 | G39: =TRIM(_xlfn.TEXTAFTER(B39," ",2)) -> 18
B40: Dec Qtr 17 | C40: ='Total Market by Category Rev'!G40/'Total Market by Category Rev'!K40 -> 0.22940122 | D40: ='Total Market by Category Rev'!H40/'Total Market by Category Rev'!K40 -> 0.15817288 | E40: ='Total Market by Category Rev'!I40/'Total Market by Category Rev'!$K$40 -> 0.1742567 | F40: ='Total Market by Category Rev'!J40/'Total Market by Category Rev'!$K$40 -> 0.4381692 | G40: =TRIM(_xlfn.TEXTAFTER(B40," ",2)) -> 17
B41: Sept Qtr 17 | C41: ='Total Market by Category Rev'!G41/'Total Market by Category Rev'!K41 -> 0.21161343 | D41: ='Total Market by Category Rev'!H41/'Total Market by Category Rev'!K41 -> 0.14099124 | E41: 0.19753961 | F41: 0.44985572 | G41: =TRIM(_xlfn.TEXTAFTER(B41," ",2)) -> 17
B42: Jun Qtr 17 | C42: ='Total Market by Category Rev'!G42/'Total Market by Category Rev'!K42 -> 0.22801781 | D42: ='Total Market by Category Rev'!H42/'Total Market by Category Rev'!K42 -> 0.12317361 | E42: 0.1942917 | F42: 0.45451689 | G42: =TRIM(_xlfn.TEXTAFTER(B42," ",2)) -> 17
...

Sheet General Display by Type
A1: FY
D8: Breakdown of general display advertising by type- by quarter
D10: *Other includes audio dollars. Refer to audio tab for further details on audio trends
D12: Period | E12: Standard Display | F12: Infeed/Native/Content | G12: Video | H12: Other * | I12: Total General display excl. video | J12: Total General display incl. video | K12: Calendar Year
E13: ($m) | F13: ($m) | G13: ($m) | H13: ($m) | I13: ($m) | J13: ($m)
A14: 2026 | B14: =$A$1&A14 -> FY2026 | D14: Jun Qtr 26 | E14: 152.7 | F14: 321.4 | G14: 1677.2 | H14: 106.1 | I14: =E14+F14+H14 -> 580.2 | J14: =I14+G14 -> 2257.4
A15: 2026 | B15: =$A$1&A15 -> FY2026 | D15: Mar Qtr 26 | E15: 130 | F15: 288.2 | G15: 1402.6 | H15: =83.6+11.6 -> 95.2 | I15: 513.3 | J15: 1915.9
A16: 2026 | B16: =$A$1&A16 -> FY2026 | D16: Dec Qtr 25 | E16: 161.1 | F16: 322.6 | G16: 1509.7 | H16: 108.8 | I16: 592.5 | J16: 2102.2
A17: 2026 | B17: =$A$1&A17 -> FY2026 | D17: Sept Qtr 25 | E17: 130.6 | F17: 269 | G17: 1346.9 | H17: 97.1 | I17: =E17+F17+H17 -> 496.7 | J17: =SUM(E17:H17) -> 1843.6
A18: 2025 | B18: =$A$1&A18 -> FY2025 | D18: Jun Qtr 25 | E18: 144.4 | F18: 277.9 | G18: 1368.3 | H18: 102.1 | I18: =E18+F18+H18 -> 524.4 | J18: =SUM(E18:H18) -> 1892.7
A19: 2025 | B19: =$A$1&A19 -> FY2025 | D19: Mar Qtr 25 | E19: 120.7 | F19: 254.6 | G19: 1165.1 | H19: 91 | I19: =E19+F19+H19 -> 466.3 | J19: =SUM(E19:H19) -> 1631.4
A20: 2025 | B20: =$A$1&A20 -> FY2025 | D20: Dec Qtr 24 | E20: 160.6 | F20: 282.1 | G20: 1308.7 | H20: 104.4 | I20: =E20+F20+H20 -> 547.1 | J20: =SUM(E20:H20) -> 1855.8
A21: 2025 | B21: =$A$1&A21 -> FY2025 | D21: Sept Qtr 24 | E21: 140.2 | F21: 268.8 | G21: 1154 | H21: 95.2 | I21: =E21+F21+H21 -> 504.2 | J21: =SUM(E21:H21) -> 1658.2
A22: 2024 | B22: =$A$1&A22 -> FY2024 | D22: Jun Qtr 24 | E22: 141.9 | F22: 279.8 | G22: 1091.6 | H22: 97.1 | I22: =E22+F22+H22 -> 518.8 | J22: =SUM(E22:H22) -> 1610.4
A23: 2024 | B23: =$A$1&A23 -> FY2024 | D23: Mar Qtr 24 | E23: 133.5 | F23: 255.3 | G23: 944.9 | H23: 82 | I23: =E23+F23+H23 -> 470.8 | J23: =SUM(E23:H23) -> 1415.7
A24: 2024 | B24: =$A$1&A24 -> FY2024 | D24: Dec Qtr 23 | E24: 156.5 | F24: 302.2 | G24: 1098 | H24: 94.4 | I24: =E24+F24+H24 -> 553.1 | J24: =SUM(E24:H24) -> 1651.1 | K24: =TRIM(_xlfn.TEXTAFTER(D24," ",2)) -> 23
A25: 2024 | B25: =$A$1&A25 -> FY2024 | D25: Sept Qtr 23 | E25: 138.4 | F25: 264 | G25: 965.5 | H25: 85 | I25: =E25+F25+H25 -> 487.4 | J25: =SUM(E25:H25) -> 1452.9 | K25: =TRIM(_xlfn.TEXTAFTER(D25," ",2)) -> 23
A26: 2023 | B26: =$A$1&A26 -> FY2023 | D26: Jun Qtr 23 | E26: 143.8 | F26: 264.9 | G26: 918.8 | H26: 86.5 | I26: =E26+F26+H26 -> 495.2 | J26: =SUM(E26:H26) -> 1414 | K26: =TRIM(_xlfn.TEXTAFTER(D26," ",2)) -> 23
A27: 2023 | B27: =$A$1&A27 -> FY2023 | D27: Mar Qtr 23 | E27: 135.8 | F27: 243 | G27: 780.7 | H27: 68.9 | I27: =E27+F27+H27 -> 447.7 | J27: =SUM(E27:H27) -> 1228.4 | K27: =TRIM(_xlfn.TEXTAFTER(D27," ",2)) -> 23
A28: =A24-1 -> 2023 | B28: =$A$1&A28 -> FY2023 | D28: Dec Qtr 22 | E28: 209.6 | F28: 312.7 | G28: 917.9 | H28: 71.5 | I28: =E28+F28+H28 -> 593.8 | J28: =SUM(E28:H28) -> 1511.7 | K28: =TRIM(_xlfn.TEXTAFTER(D28," ",2)) -> 22
A29: =A25-1 -> 2023 | B29: =$A$1&A29 -> FY2023 | D29: Sept Qtr 22 | E29: 153.7 | F29: 276.6 | G29: 840.6 | H29: =58.5+14.5 -> 73 | I29: =E29+F29+H29 -> 503.3 | J29: =SUM(E29:H29) -> 1343.9 | K29: =TRIM(_xlfn.TEXTAFTER(D29," ",2)) -> 22
A30: =A26-1 -> 2022 | B30: =$A$1&A30 -> FY2022 | D30: Jun Qtr 22 | E30: 195.4 | F30: 324.3 | G30: 821.5 | H30: 73 | I30: =E30+F30+H30 -> 592.7 | J30: =SUM(E30:H30) -> 1414.2 | K30: =TRIM(_xlfn.TEXTAFTER(D30," ",2)) -> 22
A31: =A27-1 -> 2022 | B31: =$A$1&A31 -> FY2022 | D31: Mar Qtr 22 | E31: 169.8 | F31: 307.6 | G31: 725.7 | H31: 57.6 | I31: =E31+F31+H31 -> 535 | J31: =SUM(E31:H31) -> 1260.7 | K31: =TRIM(_xlfn.TEXTAFTER(D31," ",2)) -> 22
A32: =A28-1 -> 2022 | B32: =$A$1&A32 -> FY2022 | D32: Dec Qtr 21 | E32: 203.5 | F32: 385 | G32: 829.2 | H32: 59.2 | I32: =SUM(E32,F32,H32) -> 647.7 | J32: =SUM(E32:H32) -> 1476.9 | K32: =TRIM(_xlfn.TEXTAFTER(D32," ",2)) -> 21
A33: =A29-1 -> 2022 | B33: =$A$1&A33 -> FY2022 | D33: Sept Qtr 21 | E33: 129.4 | F33: 305 | G33: 804.8 | H33: 56.3 | I33: =E33+F33+H33 -> 490.7 | J33: =SUM(E33:H33) -> 1295.5 | K33: =TRIM(_xlfn.TEXTAFTER(D33," ",2)) -> 21
A34: =A30-1 -> 2021 | B34: =$A$1&A34 -> FY2021 | D34: Jun Qtr 21 | E34: 180.8 | F34: 328.4 | G34: 725.2 | H34: 54.1 | I34: =E34+F34+H34 -> 563.3 | J34: =SUM(E34:H34) -> 1288.5 | K34: =TRIM(_xlfn.TEXTAFTER(D34," ",2)) -> 21
A35: =A31-1 -> 2021 | B35: =$A$1&A35 -> FY2021 | D35: Mar Qtr 21 | E35: 152.5 | F35: 297.2 | G35: 586.6 | H35: 38.7 | I35: =E35+F35+H35 -> 488.4 | J35: =SUM(E35:H35) -> 1075 | K35: =TRIM(_xlfn.TEXTAFTER(D35," ",2)) -> 21
A36: =A32-1 -> 2021 | B36: =$A$1&A36 -> FY2021 | D36: Dec Qtr 20 | E36: 176.7 | F36: 367.7 | G36: 651.4 | H36: 17.5 | I36: =SUM(E36:F36)+H36 -> 561.9 | J36: =SUM(E36:H36) -> 1213.3 | K36: =TRIM(_xlfn.TEXTAFTER(D36," ",2)) -> 20
A37: =A33-1 -> 2021 | B37: =$A$1&A37 -> FY2021 | D37: Sept Qtr 20 | E37: 143.8 | F37: 270.4 | G37: 456.4 | H37: 13.5 | I37: =E37+F37+H37 -> 427.7 | J37: =SUM(E37:H37) -> 884.1 | K37: =TRIM(_xlfn.TEXTAFTER(D37," ",2)) -> 20
A38: =A34-1 -> 2020 | B38: =$A$1&A38 -> FY2020 | D38: Jun Qtr 20 | E38: 116.3 | F38: 242.4 | G38: 407.5 | H38: 9 | I38: =E38+F38+H38 -> 367.7 | J38: =SUM(E38:H38) -> 775.2 | K38: =TRIM(_xlfn.TEXTAFTER(D38," ",2)) -> 20
A39: =A35-1 -> 2020 | B39: =$A$1&A39 -> FY2020 | D39: Mar Qtr 20 | E39: 126.3 | F39: 255.2 | G39: 434.8 | H39: 12 | I39: =E39+F39+H39 -> 393.5 | J39: =SUM(E39:H39) -> 828.3 | K39: =TRIM(_xlfn.TEXTAFTER(D39," ",2)) -> 20
A40: =A36-1 -> 2020 | B40: =$A$1&A40 -> FY2020 | D40: Dec Qtr 19 | E40: 140.1 | F40: 332.3 | G40: 457.2 | H40: 11 | I40: =J40-G40 -> 483.4 | J40: =SUM(E40:H40) -> 940.6 | K40: =TRIM(_xlfn.TEXTAFTER(D40," ",2)) -> 19
A41: =A37-1 -> 2020 | B41: =$A$1&A41 -> FY2020 | D41: Sept Qtr 19 | E41: 131.6 | F41: 306.7 | G41: 413.4 | H41: 11.7 | I41: =J41-G41 -> 450 | J41: 863.4 | K41: =TRIM(_xlfn.TEXTAFTER(D41," ",2)) -> 19
A42: =A38-1 -> 2019 | B42: =$A$1&A42 -> FY2019 | D42: Jun Qtr 19 | E42: 146.7 | F42: 295.7 | G42: 409.5 | H42: 11.7 | I42: 454.1 | J42: 863.6 | K42: =TRIM(_xlfn.TEXTAFTER(D42," ",2)) -> 19
A43: =A39-1 -> 2019 | B43: =$A$1&A43 -> FY2019 | D43: Mar Qtr 19 | E43: 145.5 | F43: 277.1 | G43: 368.3 | H43: 8.1 | I43: 430.7 | J43: 799 | K43: =TRIM(_xlfn.TEXTAFTER(D43," ",2)) -> 19
A44: =A40-1 -> 2019 | B44: =$A$1&A44 -> FY2019 | D44: Dec Qtr 18 | E44: 198.5 | F44: 299.8 | G44: 375.3 | H44: 8.2 | I44: 506.5 | J44: 881.8 | K44: =TRIM(_xlfn.TEXTAFTER(D44," ",2)) -> 18
A45: =A41-1 -> 2019 | B45: =$A$1&A45 -> FY2019 | D45: Sept Qtr 18 | E45: 178.3 | F45: 308.1 | G45: 328.4 | H45: 8 | I45: 494.4 | J45: 822.8 | K45: =TRIM(_xlfn.TEXTAFTER(D45," ",2)) -> 18
A46: =A42-1 -> 2018 | B46: =$A$1&A46 -> FY2018 | D46: Jun Qtr 18 | E46: 179.8 | F46: 290 | G46: 351 | H46: 6.9 | I46: 476.7 | J46: 827.7 | K46: =TRIM(_xlfn.TEXTAFTER(D46," ",2)) -> 18
A47: =A43-1 -> 2018 | B47: =$A$1&A47 -> FY2018 | D47: Mar Qtr 18 | E47: 162.1 | F47: 280.8 | G47: 320 | H47: 4.3 | I47: 447.2 | J47: 767.2 | K47: =TRIM(_xlfn.TEXTAFTER(D47," ",2)) -> 18
A48: =A44-1 -> 2018 | B48: =$A$1&A48 -> FY2018 | D48: Dec Qtr 17 | E48: 184.8 | F48: 305.5 | G48: 344.2 | H48: 8.9 | I48: 499.2 | J48: 843.4 | K48: =TRIM(_xlfn.TEXTAFTER(D48," ",2)) -> 17
...

Sheet Video
A1: FY
D4: Video by quarter
D6: Period | E6: Video expenditure ($m) | F6: Growth | I6: Video share of Display | J6: Calendar Year
F7: Qtr / Qtr | G7: Year / Year
A8: 2026 | B8: =$A$1&A8 -> FY2026 | D8: Jun Qtr 26 | E8: 1677.2 | F8: =(E8-E9)/E9 -> 0.19577927 | G8: =(E8-E12)/E12 -> 0.22575459 | I8: =E8/('Total Market by Category Rev'!G6+'Total Market by Category Rev'!H6) -> 0.74297865
A9: 2026 | B9: =$A$1&A9 -> FY2026 | D9: Mar Qtr 26 | E9: 1402.6 | F9: =(E9-E10)/E10 -> -0.070941247 | G9: =(E9-E13)/E13 -> 0.20384516 | I9: =E9/('Total Market by Category Rev'!G7+'Total Market by Category Rev'!H7) -> 0.73208414
A10: 2026 | B10: =$A$1&A10 -> FY2026 | D10: Dec Qtr 25 | E10: 1509.7 | F10: =(E10-E11)/E11 -> 0.12087015 | G10: =(E10-E14)/E14 -> 0.15358753 | I10: =E10/('Total Market by Category Rev'!G8+'Total Market by Category Rev'!H8) -> 0.71815241
A11: 2026 | B11: =$A$1&A11 -> FY2026 | D11: Sept Qtr 25 | E11: 1346.9 | F11: =(E11-E12)/E12 -> -0.015639845 | G11: =(E11-E15)/E15 -> 0.16715771 | I11: 0.724
A12: 2025 | B12: =$A$1&A12 -> FY2025 | D12: Jun Qtr 25 | E12: 1368.3 | F12: =(E12-E13)/E13 -> 0.17440563 | G12: =(E12-E16)/E16 -> 0.25348113 | I12: =E12/('Total Market by Category Rev'!G10+'Total Market by Category Rev'!H10) -> 0.72297369
A13: 2025 | B13: =$A$1&A13 -> FY2025 | D13: Mar Qtr 25 | E13: ='General Display by Type'!G19 -> 1165.1 | F13: =(E13-E14)/E14 -> -0.10972721 | G13: =(E13-E17)/E17 -> 0.23304053 | I13: =E13/('Total Market by Category Rev'!G11+'Total Market by Category Rev'!H11) -> 0.7141281
A14: 2025 | B14: =$A$1&A14 -> FY2025 | D14: Dec Qtr 24 | E14: 1308.7 | F14: =(E14-E15)/E15 -> 0.13405546 | G14: =(E14-E18)/E18 -> 0.19189435 | I14: =E14/('Total Market by Category Rev'!G12+'Total Market by Category Rev'!H12) -> 0.70519453
A15: 2025 | B15: =$A$1&A15 -> FY2025 | D15: Sept Qtr 24 | E15: 1154 | F15: =(E15-E16)/E16 -> 0.057163796 | G15: =(E15-E19)/E19 -> 0.19523563 | I15: =E15/('Total Market by Category Rev'!G13+'Total Market by Category Rev'!H13) -> 0.69593535
A16: 2024 | B16: =$A$1&A16 -> FY2024 | D16: Jun Qtr 24 | E16: 1091.6 | F16: =(E16-E17)/E17 -> 0.15525452 | G16: =(E16-E20)/E20 -> 0.1880714 | I16: =E16/('Total Market by Category Rev'!G14+'Total Market by Category Rev'!H14) -> 0.67788611
A17: 2024 | B17: =$A$1&A17 -> FY2024 | D17: Mar Qtr 24 | E17: 944.9 | F17: =(E17-E18)/E18 -> -0.13943534 | G17: =(E17-E21)/E21 -> 0.21032407 | I17: =E17/('Total Market by Category Rev'!G15+'Total Market by Category Rev'!H15) -> 0.66744367
A18: 2024 | B18: =$A$1&A18 -> FY2024 | D18: Dec Qtr 23 | E18: 1098 | F18: =(E18-E19)/E19 -> 0.13723459 | G18: =(E18-E22)/E22 -> 0.19620874 | I18: =E18/('Total Market by Category Rev'!G16+'Total Market by Category Rev'!H16) -> 0.6650112 | J18: =TRIM(_xlfn.TEXTAFTER(D18," ",2)) -> 23
A19: 2024 | B19: =$A$1&A19 -> FY2024 | D19: Sept Qtr 23 | E19: 965.5 | F19: =(E19-E20)/E20 -> 0.050827166 | G19: =(E19-E23)/E23 -> 0.14858434 | I19: =E19/('Total Market by Category Rev'!G17+'Total Market by Category Rev'!H17) -> 0.664533 | J19: =TRIM(_xlfn.TEXTAFTER(D19," ",2)) -> 23
A20: 2023 | B20: =$A$1&A20 -> FY2023 | D20: Jun Qtr 23 | E20: 918.8 | F20: =(E20-E21)/E21 -> 0.17689253 | G20: =(E20-E24)/E24 -> 0.11844187 | I20: =E20/('Total Market by Category Rev'!G18+'Total Market by Category Rev'!H18) -> 0.64978784 | J20: =TRIM(_xlfn.TEXTAFTER(D20," ",2)) -> 23
A21: 2023 | B21: =$A$1&A21 -> FY2023 | D21: Mar Qtr 23 | E21: 780.7 | F21: =(E21-E22)/E22 -> -0.14947162 | G21: =(E21-E25)/E25 -> 0.075788893 | I21: =E21/('Total Market by Category Rev'!G19+'Total Market by Category Rev'!H19) -> 0.63554217 | J21: =TRIM(_xlfn.TEXTAFTER(D21," ",2)) -> 23
A22: =A18-1 -> 2023 | B22: =$A$1&A22 -> FY2023 | D22: Dec Qtr 22 | E22: ='General Display by Type'!G28 -> 917.9 | F22: =(E22-E23)/E23 -> 0.091958125 | G22: =(E22-E26)/E26 -> 0.10697057 | I22: =E22/('Total Market by Category Rev'!G20+'Total Market by Category Rev'!H20) -> 0.6071972 | J22: =TRIM(_xlfn.TEXTAFTER(D22," ",2)) -> 22
A23: =A19-1 -> 2023 | B23: =$A$1&A23 -> FY2023 | D23: Sept Qtr 22 | E23: ='General Display by Type'!G29 -> 840.6 | F23: =(E23-E24)/E24 -> 0.023250152 | G23: =(E23-E27)/E27 -> 0.044483101 | I23: =E23/('Total Market by Category Rev'!G21+'Total Market by Category Rev'!H21) -> 0.62549297 | J23: =TRIM(_xlfn.TEXTAFTER(D23," ",2)) -> 22
A24: =A20-1 -> 2022 | B24: =$A$1&A24 -> FY2022 | D24: Jun Qtr 22 | E24: ='General Display by Type'!G30 -> 821.5 | F24: =(E24-E25)/E25 -> 0.13201047 | G24: =(E24-E28)/E28 -> 0.13279095 | I24: =E24/('Total Market by Category Rev'!G22+'Total Market by Category Rev'!H22) -> 0.58089379 | J24: =TRIM(_xlfn.TEXTAFTER(D24," ",2)) -> 22
A25: =A21-1 -> 2022 | B25: =$A$1&A25 -> FY2022 | D25: Mar Qtr 22 | E25: ='General Display by Type'!G31 -> 725.7 | F25: =(E25-E26)/E26 -> -0.1248191 | G25: =(E25-E29)/E29 -> 0.23712922 | I25: =E25/('Total Market by Category Rev'!G23+'Total Market by Category Rev'!H23) -> 0.57567825 | J25: =TRIM(_xlfn.TEXTAFTER(D25," ",2)) -> 22
A26: =A22-1 -> 2022 | B26: =$A$1&A26 -> FY2022 | D26: Dec Qtr 21 | E26: ='General Display by Type'!G32 -> 829.2 | F26: =(E26-E27)/E27 -> 0.030318091 | G26: =(E26-E30)/E30 -> 0.27295057 | I26: =E26/('Total Market by Category Rev'!G24+'Total Market by Category Rev'!H24) -> 0.56140826 | J26: =TRIM(_xlfn.TEXTAFTER(D26," ",2)) -> 21
A27: =A23-1 -> 2022 | B27: =$A$1&A27 -> FY2022 | D27: Sept Qtr 21 | E27: ='General Display by Type'!G33 -> 804.8 | F27: =(E27-E28)/E28 -> 0.10976282 | G27: =(E27-E31)/E31 -> 0.76336547 | I27: =E27/('Total Market by Category Rev'!G25+'Total Market by Category Rev'!H25) -> 0.62122733 | J27: =TRIM(_xlfn.TEXTAFTER(D27," ",2)) -> 21
A28: =A24-1 -> 2021 | B28: =$A$1&A28 -> FY2021 | D28: Jun Qtr 21 | E28: ='General Display by Type'!G34 -> 725.2 | F28: =(E28-E29)/E29 -> 0.23627685 | G28: =(E28-E32)/E32 -> 0.7796319 | I28: =E28/('Total Market by Category Rev'!G26+'Total Market by Category Rev'!H26) -> 0.56282499 | J28: =TRIM(_xlfn.TEXTAFTER(D28," ",2)) -> 21
A29: =A25-1 -> 2021 | B29: =$A$1&A29 -> FY2021 | D29: Mar Qtr 21 | E29: ='General Display by Type'!G35 -> 586.6 | F29: =(E29-E30)/E30 -> -0.099478047 | G29: =(E29-E33)/E33 -> 0.34912603 | I29: =E29/('Total Market by Category Rev'!G27+'Total Market by Category Rev'!H27) -> 0.54577596 | J29: =TRIM(_xlfn.TEXTAFTER(D29," ",2)) -> 21
A30: =A26-1 -> 2021 | B30: =$A$1&A30 -> FY2021 | D30: Dec Qtr 20 | E30: ='General Display by Type'!G36 -> 651.4 | F30: =(E30-E31)/E31 -> 0.42725679 | G30: =(E30-E34)/E34 -> 0.42475941 | I30: =E30/('Total Market by Category Rev'!G28+'Total Market by Category Rev'!H28) -> 0.53688288 | J30: =TRIM(_xlfn.TEXTAFTER(D30," ",2)) -> 20
A31: =A27-1 -> 2021 | B31: =$A$1&A31 -> FY2021 | D31: Sept Qtr 20 | E31: ='General Display by Type'!G37 -> 456.4 | F31: =(E31-E32)/E32 -> 0.12 | G31: =(E31-E35)/E35 -> 0.10401548 | I31: =E31/('Total Market by Category Rev'!G29+'Total Market by Category Rev'!H29) -> 0.51617281 | J31: =TRIM(_xlfn.TEXTAFTER(D31," ",2)) -> 20
A32: =A28-1 -> 2020 | B32: =$A$1&A32 -> FY2020 | D32: Jun Qtr 20 | E32: ='General Display by Type'!G38 -> 407.5 | F32: =(E32-E33)/E33 -> -0.062787489 | G32: =(E32-E36)/E36 -> -0.0048840049 | I32: =E32/('Total Market by Category Rev'!G30+'Total Market by Category Rev'!H30) -> 0.52567079 | J32: =TRIM(_xlfn.TEXTAFTER(D32," ",2)) -> 20
A33: =A29-1 -> 2020 | B33: =$A$1&A33 -> FY2020 | D33: Mar Qtr 20 | E33: ='General Display by Type'!G39 -> 434.8 | F33: =(E33-E34)/E34 -> -0.048993876 | G33: 0.17512897 | I33: =E33/('Total Market by Category Rev'!G31+'Total Market by Category Rev'!H31) -> 0.52486721 | J33: =TRIM(_xlfn.TEXTAFTER(D33," ",2)) -> 20
A34: =A30-1 -> 2020 | B34: =$A$1&A34 -> FY2020 | D34: Dec Qtr 19 | E34: 457.2 | F34: =(E34-E35)/E35 -> 0.10595065 | G34: =(E34-E38)/E38 -> 0.21822542 | I34: =E34/('Total Market by Category Rev'!G32+'Total Market by Category Rev'!H32) -> 0.48607272 | J34: =TRIM(_xlfn.TEXTAFTER(D34," ",2)) -> 19
A35: =A31-1 -> 2020 | B35: =$A$1&A35 -> FY2020 | D35: Sept Qtr 19 | E35: 413.4 | F35: =(E35-E36)/E36 -> 0.0095238095 | G35: =(E35-E39)/E39 -> 0.25883069 | I35: =E35/('Total Market by Category Rev'!G33+'Total Market by Category Rev'!H33) -> 0.47880473 | J35: =TRIM(_xlfn.TEXTAFTER(D35," ",2)) -> 19
A36: =A32-1 -> 2019 | B36: =$A$1&A36 -> FY2019 | D36: Jun Qtr 19 | E36: 409.5 | F36: 0.112 | G36: 0.167 | I36: =E36/('Total Market by Category Rev'!G34+'Total Market by Category Rev'!H34) -> 0.47417786 | J36: =TRIM(_xlfn.TEXTAFTER(D36," ",2)) -> 19
A37: =A33-1 -> 2019 | B37: =$A$1&A37 -> FY2019 | D37: Mar Qtr 19 | E37: 368.3 | F37: -0.019 | G37: 0.151 | I37: =E37/('Total Market by Category Rev'!G35+'Total Market by Category Rev'!H35) -> 0.46095119 | J37: =TRIM(_xlfn.TEXTAFTER(D37," ",2)) -> 19
A38: =A34-1 -> 2019 | B38: =$A$1&A38 -> FY2019 | D38: Dec Qtr 18 | E38: 375.3 | F38: 0.143 | G38: 0.09 | I38: =E38/('Total Market by Category Rev'!G36+'Total Market by Category Rev'!H36) -> 0.42560671 | J38: =TRIM(_xlfn.TEXTAFTER(D38," ",2)) -> 18
A39: =A35-1 -> 2019 | B39: =$A$1&A39 -> FY2019 | D39: Sept Qtr 18 | E39: 328.4 | F39: -0.064 | G39: 0.179 | I39: =E39/('Total Market by Category Rev'!G37+'Total Market by Category Rev'!H37) -> 0.39912494 | J39: =TRIM(_xlfn.TEXTAFTER(D39," ",2)) -> 18
A40: =A36-1 -> 2018 | B40: =$A$1&A40 -> FY2018 | D40: Jun Qtr 18 | E40: 351 | F40: 0.097 | G40: 0.492 | I40: =E40/('Total Market by Category Rev'!G38+'Total Market by Category Rev'!H38) -> 0.42406669 | J40: =TRIM(_xlfn.TEXTAFTER(D40," ",2)) -> 18
A41: =A37-1 -> 2018 | B41: =$A$1&A41 -> FY2018 | D41: Mar Qtr 18 | E41: 320 | F41: -0.07 | G41: 0.381 | I41: =E41/('Total Market by Category Rev'!G39+'Total Market by Category Rev'!H39) -> 0.41712525 | J41: =TRIM(_xlfn.TEXTAFTER(D41," ",2)) -> 18
A42: =A38-1 -> 2018 | B42: =$A$1&A42 -> FY2018 | D42: Dec Qtr 17 | E42: 344.2 | F42: 0.236 | G42: 0.414 | I42: =E42/('Total Market by Category Rev'!G40+'Total Market by Category Rev'!H40) -> 0.40811003 | J42: =TRIM(_xlfn.TEXTAFTER(D42," ",2)) -> 17
A43: =A39-1 -> 2018 | B43: =$A$1&A43 -> FY2018 | D43: Sept Qtr 17 | E43: 278.5 | F43: 0.184 | G43: 0.514 | I43: =E43/('Total Market by Category Rev'!G41+'Total Market by Category Rev'!H41) -> 0.39985642 | J43: =TRIM(_xlfn.TEXTAFTER(D43," ",2)) -> 17
...

Sheet Audio
A1: FY
E2: Quarterly historical audio advertising expenditure data
E5: Period | F5: Podcast | G5: Streaming | H5: Total online audio advertising | I5: Online audio advertising growth | L5: Online audio share of total general display | M5: Calendar Year
F6: ($m) | G6: ($m) | H6: ($m) | I6: Qtr / Qtr | J6: Year / Year
A7: 2026 | B7: =$A$1&A7 -> FY2026 | E7: Jun Qtr 26 | F7: 40 | G7: 53.6 | H7: =F7+G7 -> 93.6 | I7: 0.12 | J7: 0.093 | L7: =H7/('Total Market by Category Rev'!G6+'Total Market by Category Rev'!H6) -> 0.041463631
A8: 2026 | B8: =$A$1&A8 -> FY2026 | E8: Mar Qtr 26 | F8: 32.6 | G8: 50.9 | H8: =F8+G8 -> 83.5 | I8: -0.112 | J8: =(H8-H12)/H12 -> 0.083009079 | L8: =H8/('Total Market by Category Rev'!G7+'Total Market by Category Rev'!H7) -> 0.04358265
A9: 2026 | B9: =$A$1&A9 -> FY2026 | E9: Dec Qtr 25 | F9: 35.8 | G9: 58.4 | H9: 94.2 | I9: =(H9-H10)/H10 -> 0.15299878 | J9: =(H9-H13)/H13 -> 0.051339286 | L9: =H9/('Total Market by Category Rev'!G8+'Total Market by Category Rev'!H8) -> 0.044810199
A10: 2026 | B10: =$A$1&A10 -> FY2026 | E10: Sept Qtr 25 | F10: 33.9 | G10: 47.8 | H10: =SUM(F10:G10) -> 81.7 | I10: =(H10-H11)/H11 -> -0.045560748 | J10: =(H10-H14)/H14 -> 0.034177215 | L10: =H10/('Total Market by Category Rev'!G9+'Total Market by Category Rev'!H9) -> 0.04431547
A11: 2025 | B11: =$A$1&A11 -> FY2025 | E11: Jun Qtr 25 | F11: 35.3 | G11: 50.3 | H11: =SUM(F11:G11) -> 85.6 | I11: =(H11-H12)/H12 -> 0.11024643 | J11: =(H11-H15)/H15 -> 0.084917617 | L11: 0.045
A12: 2025 | B12: =$A$1&A12 -> FY2025 | E12: Mar Qtr 25 | F12: 29 | G12: 48.1 | H12: =SUM(F12:G12) -> 77.1 | I12: =(H12-H13)/H13 -> -0.13950893 | J12: =(H12-H16)/H16 -> 0.17709924 | L12: 0.048
A13: 2025 | B13: =$A$1&A13 -> FY2025 | E13: Dec Qtr 24 | F13: 33.6 | G13: 56 | H13: =SUM(F13:G13) -> 89.6 | I13: =(H13-H14)/H14 -> 0.13417722 | J13: =(H13-H17)/H17 -> 0.15167095 | L13: =H13/('Total Market by Category Rev'!G12+'Total Market by Category Rev'!H12) -> 0.048281065
A14: 2025 | B14: =$A$1&A14 -> FY2025 | E14: Sept Qtr 24 | F14: 31.4 | G14: 47.6 | H14: =SUM(F14:G14) -> 79 | I14: =(H14-H15)/H15 -> 0.0012674271 | J14: =(H14-H18)/H18 -> 0.1634757 | L14: =H14/('Total Market by Category Rev'!G13+'Total Market by Category Rev'!H13) -> 0.047642021
A15: 2024 | B15: =$A$1&A15 -> FY2024 | E15: Jun Qtr 24 | F15: 30.2 | G15: 48.7 | H15: =SUM(F15:G15) -> 78.9 | I15: =(H15-H16)/H16 -> 0.20458015 | J15: =(H15-H19)/H19 -> 0.15859031 | L15: =H15/('Total Market by Category Rev'!G14+'Total Market by Category Rev'!H14) -> 0.048997081
A16: 2024 | B16: =$A$1&A16 -> FY2024 | E16: Mar Qtr 24 | F16: 22.9 | G16: 42.6 | H16: =SUM(F16:G16) -> 65.5 | I16: =(H16-H17)/H17 -> -0.15809769 | J16: =(H16-H20)/H20 -> 0.26204239 | L16: =H16/('Total Market by Category Rev'!G15+'Total Market by Category Rev'!H15) -> 0.046266864
A17: 2024 | B17: =$A$1&A17 -> FY2024 | E17: Dec Qtr 23 | F17: 27 | G17: 50.8 | H17: =SUM(F17:G17) -> 77.8 | I17: =(H17-H18)/H18 -> 0.14580265 | J17: =(H17-H21)/H21 -> 0.38188277 | L17: =H17/('Total Market by Category Rev'!G16+'Total Market by Category Rev'!H16) -> 0.047120102
A18: 2024 | B18: =$A$1&A18 -> FY2024 | E18: Sept Qtr 23 | F18: 24.8 | G18: 43.1 | H18: =SUM(F18:G18) -> 67.9 | I18: =(H18-H19)/H19 -> -0.0029368576 | J18: =(H18-H22)/H22 -> 0.16068376 | L18: =H18/('Total Market by Category Rev'!G17+'Total Market by Category Rev'!H17) -> 0.046734118
A19: 2023 | B19: =$A$1&A19 -> FY2023 | E19: Jun Qtr 23 | F19: 27.5 | G19: 40.6 | H19: =SUM(F19:G19) -> 68.1 | I19: =(H19-H20)/H20 -> 0.31213873 | J19: =(H19-H23)/H23 -> 0.14070352 | L19: =H19/('Total Market by Category Rev'!G18+'Total Market by Category Rev'!H18) -> 0.048161245
A20: 2023 | B20: =$A$1&A20 -> FY2023 | E20: Mar Qtr 23 | F20: 19.8 | G20: 32.1 | H20: =SUM(F20:G20) -> 51.9 | I20: =(H20-H21)/H21 -> -0.078152753 | J20: =(H20-H24)/H24 -> 0.13071895 | L20: =H20/('Total Market by Category Rev'!G19+'Total Market by Category Rev'!H19) -> 0.042250081
A21: =A17-1 -> 2023 | B21: =$A$1&A21 -> FY2023 | E21: Dec Qtr 22 | F21: 22.3 | G21: 34 | H21: =SUM(F21:G21) -> 56.3 | I21: =(H21-H22)/H22 -> -0.037606838 | J21: N/A | L21: =H21/('Total Market by Category Rev'!G20+'Total Market by Category Rev'!H20) -> 0.037242839
A22: =A18-1 -> 2023 | B22: =$A$1&A22 -> FY2023 | E22: Sept Qtr 22 | F22: 20.8 | G22: 37.7 | H22: =SUM(F22:G22) -> 58.5 | I22: =(H22-H23)/H23 -> -0.020100503 | J22: N/A | L22: =H22/('Total Market by Category Rev'!G21+'Total Market by Category Rev'!H21) -> 0.043530025
A23: =A19-1 -> 2022 | B23: =$A$1&A23 -> FY2022 | E23: Jun Qtr 22 | F23: 22.1 | G23: 37.6 | H23: =SUM(F23:G23) -> 59.7 | I23: =(H23-H24)/H24 -> 0.30065359 | J23: N/A | L23: =H23/('Total Market by Category Rev'!G22+'Total Market by Category Rev'!H22) -> 0.04221468
A24: =A20-1 -> 2022 | B24: =$A$1&A24 -> FY2022 | E24: Mar Qtr 22 | F24: 16.4 | G24: 29.5 | H24: =SUM(F24:G24) -> 45.9 | I24: N/A | J24: N/A | L24: =H24/('Total Market by Category Rev'!G23+'Total Market by Category Rev'!H23) -> 0.036411233
E26: Quarterly historical audio advertising expenditure data
